BEGIN:VCALENDAR
PRODID:-//eluceo/ical//2.0/EN
VERSION:2.0
CALSCALE:GREGORIAN
BEGIN:VEVENT
UID:7cc48cba2e80ba5929866882e4430c88
DTSTAMP:20260422T125717Z
SUMMARY:Congregation B'nai Shalom Women's Seder
DESCRIPTION:Jewish Federation of Central Massachusetts\nCalendar\nhttps://j
 ewishcentralmass.org/calendar/19cal662\n\nCongregation B'nai Shalom Women'
 s Seder
DTSTART;TZID=America/New_York:20190404T183000
DTEND;TZID=America/New_York:20190404T235959
END:VEVENT
END:VCALENDAR
