BEGIN:VCALENDAR
PRODID:-//eluceo/ical//2.0/EN
VERSION:2.0
CALSCALE:GREGORIAN
BEGIN:VEVENT
UID:14d6cbdd5b952196a240ae352886f1f8
DTSTAMP:20260423T071336Z
SUMMARY:Jewish Community Center Annual Gala Event
DESCRIPTION:Jewish Federation of Central Massachusetts\nCalendar\nhttps://j
 ewishcentralmass.org/calendar/19cal660\n\nJewish Community Center Winter G
 ala Event
DTSTART;TZID=America/New_York:20190330T000000
DTEND;TZID=America/New_York:20190330T235959
END:VEVENT
END:VCALENDAR
