BEGIN:VCALENDAR
PRODID:-//eluceo/ical//2.0/EN
VERSION:2.0
CALSCALE:GREGORIAN
BEGIN:VEVENT
UID:eaa8e0dc360252e44ce8fbbd02cb9ebd
DTSTAMP:20260423T061603Z
SUMMARY:Congregation Beth Israel Board Meeting
DESCRIPTION:Jewish Federation of Central Massachusetts\nCalendar\nhttps://j
 ewishcentralmass.org/calendar/19cal659\n\nCongregation Beth Israel Board M
 eeting
DTSTART;TZID=America/New_York:20190328T193000
DTEND;TZID=America/New_York:20190328T235959
END:VEVENT
END:VCALENDAR
