BEGIN:VCALENDAR
PRODID:-//eluceo/ical//2.0/EN
VERSION:2.0
CALSCALE:GREGORIAN
BEGIN:VEVENT
UID:8323506219b32b7209b2a3e3dd5c5466
DTSTAMP:20260423T160844Z
SUMMARY:Congregation B'nai Shalom Board Meeting
DESCRIPTION:Jewish Federation of Central Massachusetts\nCalendar\nhttps://j
 ewishcentralmass.org/calendar/19cal658\n\nCongregation B'nai Shalom Board 
 Meeting
DTSTART;TZID=America/New_York:20190327T193000
DTEND;TZID=America/New_York:20190327T235959
END:VEVENT
END:VCALENDAR
