BEGIN:VCALENDAR
PRODID:-//eluceo/ical//2.0/EN
VERSION:2.0
CALSCALE:GREGORIAN
BEGIN:VEVENT
UID:83ca3abab83d0e22895cdb437e4aa434
DTSTAMP:20260422T224148Z
SUMMARY:Jewish Healthcare Center Board Meeting
DESCRIPTION:Jewish Federation of Central Massachusetts\nCalendar\nhttps://j
 ewishcentralmass.org/calendar/19cal657\n\nJewish Healthcare Center Board M
 eeting
DTSTART;TZID=America/New_York:20190325T193000
DTEND;TZID=America/New_York:20190325T235959
END:VEVENT
END:VCALENDAR
