BEGIN:VCALENDAR
PRODID:-//eluceo/ical//2.0/EN
VERSION:2.0
CALSCALE:GREGORIAN
BEGIN:VEVENT
UID:8c9d1bfb28ad49ecdbebd9ec69277874
DTSTAMP:20260423T032212Z
SUMMARY:Congregation Beth Israel Brotherhood Breakfast
DESCRIPTION:Jewish Federation of Central Massachusetts\nCalendar\nhttps://j
 ewishcentralmass.org/calendar/19cal654\n\nCongregation Beth Israel Brother
 hood Breakfast
DTSTART;TZID=America/New_York:20190324T093000
DTEND;TZID=America/New_York:20190324T235959
END:VEVENT
END:VCALENDAR
