BEGIN:VCALENDAR
PRODID:-//eluceo/ical//2.0/EN
VERSION:2.0
CALSCALE:GREGORIAN
BEGIN:VEVENT
UID:e628f3529c5b461432a544b3010438c8
DTSTAMP:20260423T115728Z
SUMMARY:Beth Tikvah Trivia Night
DESCRIPTION:Jewish Federation of Central Massachusetts\nCalendar\nhttps://j
 ewishcentralmass.org/calendar/19cal653\n\nBeth Tikvah Trivia Night
DTSTART;TZID=America/New_York:20190323T180000
DTEND;TZID=America/New_York:20190323T235959
END:VEVENT
END:VCALENDAR
