BEGIN:VCALENDAR
PRODID:-//eluceo/ical//2.0/EN
VERSION:2.0
CALSCALE:GREGORIAN
BEGIN:VEVENT
UID:e8c0c1e65d0a41b8cc16bd2ae1e2780c
DTSTAMP:20260422T220644Z
SUMMARY:Purim
DESCRIPTION:Jewish Federation of Central Massachusetts\nCalendar\nhttps://j
 ewishcentralmass.org/calendar/19cal652\n\nPurim
DTSTART;TZID=America/New_York:20190321T000100
DTEND;TZID=America/New_York:20190321T235959
END:VEVENT
END:VCALENDAR
