BEGIN:VCALENDAR
PRODID:-//eluceo/ical//2.0/EN
VERSION:2.0
CALSCALE:GREGORIAN
BEGIN:VEVENT
UID:5c0f16106cf54bf4e257f776af853bb0
DTSTAMP:20260424T143153Z
SUMMARY:Jewish Healthcare Center Finance Committee
DESCRIPTION:Jewish Federation of Central Massachusetts\nCalendar\nhttps://j
 ewishcentralmass.org/calendar/19cal651\n\nJewish Healthcare Center Finance
  Committee
DTSTART;TZID=America/New_York:20190319T073000
DTEND;TZID=America/New_York:20190319T235959
END:VEVENT
END:VCALENDAR
