BEGIN:VCALENDAR
PRODID:-//eluceo/ical//2.0/EN
VERSION:2.0
CALSCALE:GREGORIAN
BEGIN:VEVENT
UID:e5e575b2ed026d97fb0a2e8bb35081df
DTSTAMP:20260423T132301Z
SUMMARY:Jewish Federation of Central Mass Life & Legacy Workshop
DESCRIPTION:Jewish Federation of Central Massachusetts\nCalendar\nhttps://j
 ewishcentralmass.org/calendar/19cal650\n\nJewish Federation of Central Mas
 s Life & Legacy Workshop
DTSTART;TZID=America/New_York:20190318T180000
DTEND;TZID=America/New_York:20190318T235959
END:VEVENT
END:VCALENDAR
