BEGIN:VCALENDAR
PRODID:-//eluceo/ical//2.0/EN
VERSION:2.0
CALSCALE:GREGORIAN
BEGIN:VEVENT
UID:2013a48842ddee69ac466af719f0255f
DTSTAMP:20260422T154445Z
SUMMARY:PJ Library @ Beth Tikvah
DESCRIPTION:Jewish Federation of Central Massachusetts\nCalendar\nhttps://j
 ewishcentralmass.org/calendar/19cal649\n\nPJ Library @ Beth Tikvah
DTSTART;TZID=America/New_York:20190317T090000
DTEND;TZID=America/New_York:20190317T235959
END:VEVENT
END:VCALENDAR
