BEGIN:VCALENDAR
PRODID:-//eluceo/ical//2.0/EN
VERSION:2.0
CALSCALE:GREGORIAN
BEGIN:VEVENT
UID:039768900d77c1baf9137918afb0e4eb
DTSTAMP:20260421T080830Z
SUMMARY:Congregation Beth Israel Purim Event
DESCRIPTION:Jewish Federation of Central Massachusetts\nCalendar\nhttps://j
 ewishcentralmass.org/calendar/19cal648\n\nCongregation Beth Israel Purim E
 vent
DTSTART;TZID=America/New_York:20190316T190000
DTEND;TZID=America/New_York:20190316T235959
END:VEVENT
END:VCALENDAR
