BEGIN:VCALENDAR
PRODID:-//eluceo/ical//2.0/EN
VERSION:2.0
CALSCALE:GREGORIAN
BEGIN:VEVENT
UID:38eeeb36393ede928cd061e0bef1ec15
DTSTAMP:20260423T154832Z
SUMMARY:Beth Tikvah Board Meeting
DESCRIPTION:Jewish Federation of Central Massachusetts\nCalendar\nhttps://j
 ewishcentralmass.org/calendar/19cal647\n\nBeth Tikvah Board Meeting
DTSTART;TZID=America/New_York:20190313T190000
DTEND;TZID=America/New_York:20190313T235959
END:VEVENT
END:VCALENDAR
