BEGIN:VCALENDAR
PRODID:-//eluceo/ical//2.0/EN
VERSION:2.0
CALSCALE:GREGORIAN
BEGIN:VEVENT
UID:06bb1e7c137a76b668a669c5dc9d6e3a
DTSTAMP:20260423T043440Z
SUMMARY:Jewish Federation of Central Mass Life & Legacy Gala
DESCRIPTION:Jewish Federation of Central Massachusetts\nCalendar\nhttps://j
 ewishcentralmass.org/calendar/19cal646\n\nJewish Federation of Central Mas
 s Life & Legacy Gala
DTSTART;TZID=America/New_York:20190414T000000
DTEND;TZID=America/New_York:20190414T235959
END:VEVENT
END:VCALENDAR
