BEGIN:VCALENDAR
PRODID:-//eluceo/ical//2.0/EN
VERSION:2.0
CALSCALE:GREGORIAN
BEGIN:VEVENT
UID:fcc10015a086fc5a5a3254d6591266ed
DTSTAMP:20260423T100436Z
SUMMARY:Beth Tikvah Woman's Shabbat Service
DESCRIPTION:Jewish Federation of Central Massachusetts\nCalendar\nhttps://j
 ewishcentralmass.org/calendar/19cal644\n\nBeth Tikvah Woman's Shabbat Serv
 ice
DTSTART;TZID=America/New_York:20190309T093000
DTEND;TZID=America/New_York:20190309T235959
END:VEVENT
END:VCALENDAR
