BEGIN:VCALENDAR
PRODID:-//eluceo/ical//2.0/EN
VERSION:2.0
CALSCALE:GREGORIAN
BEGIN:VEVENT
UID:7737316289fa93946ec5f7bc313a8145
DTSTAMP:20260424T064155Z
SUMMARY:Jewish Federation of Central Mass Board Meeting
DESCRIPTION:Jewish Federation of Central Massachusetts\nCalendar\nhttps://j
 ewishcentralmass.org/calendar/19cal642\n\nJewish Federation of Central Mas
 s Board Meeting
DTSTART;TZID=America/New_York:20190305T193000
DTEND;TZID=America/New_York:20190305T235959
END:VEVENT
END:VCALENDAR
