BEGIN:VCALENDAR
PRODID:-//eluceo/ical//2.0/EN
VERSION:2.0
CALSCALE:GREGORIAN
BEGIN:VEVENT
UID:928a3dff7591f13c7f26b5be7ce8c71a
DTSTAMP:20260423T125734Z
SUMMARY:Congregation Beth Israel Board Meeting
DESCRIPTION:Jewish Federation of Central Massachusetts\nCalendar\nhttps://j
 ewishcentralmass.org/calendar/19cal640\n\nCongregation Beth Israel Board M
 eeting
DTSTART;TZID=America/New_York:20190228T193000
DTEND;TZID=America/New_York:20190228T235959
END:VEVENT
END:VCALENDAR
