BEGIN:VCALENDAR
PRODID:-//eluceo/ical//2.0/EN
VERSION:2.0
CALSCALE:GREGORIAN
BEGIN:VEVENT
UID:b7780d38a9a3ba78b1b7ce2f73a9cf00
DTSTAMP:20260423T223939Z
SUMMARY:Congregation Beth Israel Brotherhood Breakfast
DESCRIPTION:Jewish Federation of Central Massachusetts\nCalendar\nhttps://j
 ewishcentralmass.org/calendar/19cal637\n\nCongregation Beth Israel Brother
 hood Breakfast
DTSTART;TZID=America/New_York:20190224T093000
DTEND;TZID=America/New_York:20190224T235959
END:VEVENT
END:VCALENDAR
