BEGIN:VCALENDAR
PRODID:-//eluceo/ical//2.0/EN
VERSION:2.0
CALSCALE:GREGORIAN
BEGIN:VEVENT
UID:c0dbe92de89f87b0e6863c8ea62a0a82
DTSTAMP:20260424T170621Z
SUMMARY:Presidents Day
DESCRIPTION:Jewish Federation of Central Massachusetts\nCalendar\nhttps://j
 ewishcentralmass.org/calendar/19cal636\n\nPresidents Day
DTSTART;TZID=America/New_York:20190218T000100
DTEND;TZID=America/New_York:20190218T235959
END:VEVENT
END:VCALENDAR
