BEGIN:VCALENDAR
PRODID:-//eluceo/ical//2.0/EN
VERSION:2.0
CALSCALE:GREGORIAN
BEGIN:VEVENT
UID:586c8d5f261e482148b0bba5ebfb5a23
DTSTAMP:20260423T032248Z
SUMMARY:Jewish Federation of Central Mass Board Meeting
DESCRIPTION:Jewish Federation of Central Massachusetts\nCalendar\nhttps://j
 ewishcentralmass.org/calendar/19cal634\n\nJewish Federation of Central Mas
 s Board Meeting
DTSTART;TZID=America/New_York:20190212T193000
DTEND;TZID=America/New_York:20190212T235959
END:VEVENT
END:VCALENDAR
