BEGIN:VCALENDAR
PRODID:-//eluceo/ical//2.0/EN
VERSION:2.0
CALSCALE:GREGORIAN
BEGIN:VEVENT
UID:22c7e24b3d238d0bc5df65959fa7bcb8
DTSTAMP:20260423T144113Z
SUMMARY:Jewish Community Center Camp Kickoff
DESCRIPTION:Jewish Federation of Central Massachusetts\nCalendar\nhttps://j
 ewishcentralmass.org/calendar/19cal633\n\nJewish Community Center Camp Kic
 koff
DTSTART;TZID=America/New_York:20190210T110000
DTEND;TZID=America/New_York:20190210T235959
END:VEVENT
END:VCALENDAR
