BEGIN:VCALENDAR
PRODID:-//eluceo/ical//2.0/EN
VERSION:2.0
CALSCALE:GREGORIAN
BEGIN:VEVENT
UID:2b686eb66a331f43b4687e9f63f8e980
DTSTAMP:20260423T160245Z
SUMMARY:Florida Reunion
DESCRIPTION:Jewish Federation of Central Massachusetts\nCalendar\nhttps://j
 ewishcentralmass.org/calendar/19cal630\n\nFlorida Reunion
DTSTART;TZID=America/New_York:20190207T110000
DTEND;TZID=America/New_York:20190207T235959
END:VEVENT
END:VCALENDAR
