BEGIN:VCALENDAR
PRODID:-//eluceo/ical//2.0/EN
VERSION:2.0
CALSCALE:GREGORIAN
BEGIN:VEVENT
UID:6d83f50e23d265b40eeb3ea15cce68bf
DTSTAMP:20260424T054831Z
SUMMARY:Jewish Federation of Central Mass Life & Legacy Workshop
DESCRIPTION:Jewish Federation of Central Massachusetts\nCalendar\nhttps://j
 ewishcentralmass.org/calendar/19cal629\n\nJewish Federation of Central Mas
 s Life & Legacy Workshop
DTSTART;TZID=America/New_York:20190205T180000
DTEND;TZID=America/New_York:20190205T235959
END:VEVENT
END:VCALENDAR
