BEGIN:VCALENDAR
PRODID:-//eluceo/ical//2.0/EN
VERSION:2.0
CALSCALE:GREGORIAN
BEGIN:VEVENT
UID:ab882ba583222398e312963ede61fdee
DTSTAMP:20260423T184120Z
SUMMARY:Congregation Beth Israel World Wide Wrap Day
DESCRIPTION:Jewish Federation of Central Massachusetts\nCalendar\nhttps://j
 ewishcentralmass.org/calendar/19cal627\n\nCongregation Beth Israel World W
 ide Wrap Day
DTSTART;TZID=America/New_York:20190203T000000
DTEND;TZID=America/New_York:20190203T235959
END:VEVENT
END:VCALENDAR
