BEGIN:VCALENDAR
PRODID:-//eluceo/ical//2.0/EN
VERSION:2.0
CALSCALE:GREGORIAN
BEGIN:VEVENT
UID:6225beea58794b95afab1e4ebca6ac92
DTSTAMP:20260423T184054Z
SUMMARY:Community-wide Souper Bowl
DESCRIPTION:Jewish Federation of Central Massachusetts\nCalendar\nhttps://j
 ewishcentralmass.org/calendar/19cal626\n\nCommunity-wide Souper Bowl
DTSTART;TZID=America/New_York:20190203T090000
DTEND;TZID=America/New_York:20190203T235959
END:VEVENT
END:VCALENDAR
