BEGIN:VCALENDAR
PRODID:-//eluceo/ical//2.0/EN
VERSION:2.0
CALSCALE:GREGORIAN
BEGIN:VEVENT
UID:c930090fbfe30dcad999494f65ea1b0d
DTSTAMP:20260423T202133Z
SUMMARY:Temple Emanuel Sinai Scholar in Residence
DESCRIPTION:Jewish Federation of Central Massachusetts\nCalendar\nhttps://j
 ewishcentralmass.org/calendar/19cal625\n\nTemple Emanuel Sinai Scholar in 
 Residence
DTSTART;TZID=America/New_York:20190201T190000
DTEND;TZID=America/New_York:20190203T235959
END:VEVENT
END:VCALENDAR
