BEGIN:VCALENDAR
PRODID:-//eluceo/ical//2.0/EN
VERSION:2.0
CALSCALE:GREGORIAN
BEGIN:VEVENT
UID:70595b7f537f4edd3eca09ba5d4027a9
DTSTAMP:20260424T081801Z
SUMMARY:Jewish Community Center Film Festival
DESCRIPTION:Jewish Federation of Central Massachusetts\nCalendar\nhttps://j
 ewishcentralmass.org/calendar/19cal624\n\nJewish Community Center Film Fes
 tival
DTSTART;TZID=America/New_York:20190129T193000
DTEND;TZID=America/New_York:20190129T235959
END:VEVENT
END:VCALENDAR
