BEGIN:VCALENDAR
PRODID:-//eluceo/ical//2.0/EN
VERSION:2.0
CALSCALE:GREGORIAN
BEGIN:VEVENT
UID:71502feb3f43935d201d08fcc2ea5703
DTSTAMP:20260422T102201Z
SUMMARY:Jewish Community Center Finance Committee
DESCRIPTION:Jewish Federation of Central Massachusetts\nCalendar\nhttps://j
 ewishcentralmass.org/calendar/19cal623\n\nJewish Community Center Finance 
 Committee
DTSTART;TZID=America/New_York:20190128T193000
DTEND;TZID=America/New_York:20190128T235959
END:VEVENT
END:VCALENDAR
