BEGIN:VCALENDAR
PRODID:-//eluceo/ical//2.0/EN
VERSION:2.0
CALSCALE:GREGORIAN
BEGIN:VEVENT
UID:7f43e6284602a1e082aad57063b8b187
DTSTAMP:20260422T192812Z
SUMMARY:Jewish Community Center Film Festival
DESCRIPTION:Jewish Federation of Central Massachusetts\nCalendar\nhttps://j
 ewishcentralmass.org/calendar/19cal622\n\nJewish Community Center Film Fes
 tival
DTSTART;TZID=America/New_York:20190127T140000
DTEND;TZID=America/New_York:20190127T235959
END:VEVENT
END:VCALENDAR
