BEGIN:VCALENDAR
PRODID:-//eluceo/ical//2.0/EN
VERSION:2.0
CALSCALE:GREGORIAN
BEGIN:VEVENT
UID:5808c3e09fd93969654f86aaa92b73bd
DTSTAMP:20260423T142621Z
SUMMARY:Jewish Community Center Film Festival
DESCRIPTION:Jewish Federation of Central Massachusetts\nCalendar\nhttps://j
 ewishcentralmass.org/calendar/19cal620\n\nJewish Community Center Film Fes
 tival
DTSTART;TZID=America/New_York:20190126T193000
DTEND;TZID=America/New_York:20190126T235959
END:VEVENT
END:VCALENDAR
