BEGIN:VCALENDAR
PRODID:-//eluceo/ical//2.0/EN
VERSION:2.0
CALSCALE:GREGORIAN
BEGIN:VEVENT
UID:bb744f483f62a1ad4e339d69222b2a0b
DTSTAMP:20260422T123226Z
SUMMARY:Congregation Beth Israel Board Meeting
DESCRIPTION:Jewish Federation of Central Massachusetts\nCalendar\nhttps://j
 ewishcentralmass.org/calendar/19cal619\n\nCongregation Beth Israel Board M
 eeting
DTSTART;TZID=America/New_York:20190124T193000
DTEND;TZID=America/New_York:20190124T235959
END:VEVENT
END:VCALENDAR
