BEGIN:VCALENDAR
PRODID:-//eluceo/ical//2.0/EN
VERSION:2.0
CALSCALE:GREGORIAN
BEGIN:VEVENT
UID:990ec782771fef52d1f6c2a047f33fe4
DTSTAMP:20260422T183701Z
SUMMARY:Congregation B'nai Shalom Board Meeting
DESCRIPTION:Jewish Federation of Central Massachusetts\nCalendar\nhttps://j
 ewishcentralmass.org/calendar/19cal618\n\nCongregation B'nai Shalom Board 
 Meeting
DTSTART;TZID=America/New_York:20190123T193000
DTEND;TZID=America/New_York:20190123T235959
END:VEVENT
END:VCALENDAR
