BEGIN:VCALENDAR
PRODID:-//eluceo/ical//2.0/EN
VERSION:2.0
CALSCALE:GREGORIAN
BEGIN:VEVENT
UID:c48e5666ed2953fc6d4beb75bc30c92a
DTSTAMP:20260422T113144Z
SUMMARY:Jewish Community Center Film Festival
DESCRIPTION:Jewish Federation of Central Massachusetts\nCalendar\nhttps://j
 ewishcentralmass.org/calendar/19cal617\n\nJewish Community Center Film Fes
 tival
DTSTART;TZID=America/New_York:20190122T193000
DTEND;TZID=America/New_York:20190122T235959
END:VEVENT
END:VCALENDAR
