BEGIN:VCALENDAR
PRODID:-//eluceo/ical//2.0/EN
VERSION:2.0
CALSCALE:GREGORIAN
BEGIN:VEVENT
UID:94455b4524dd01a887f6c8cdadc5c375
DTSTAMP:20260421T125458Z
SUMMARY:Martin Luther King Day
DESCRIPTION:Jewish Federation of Central Massachusetts\nCalendar\nhttps://j
 ewishcentralmass.org/calendar/19cal615\n\nMartin Luther King Day
DTSTART;TZID=America/New_York:20190121T000100
DTEND;TZID=America/New_York:20190121T235959
END:VEVENT
END:VCALENDAR
