BEGIN:VCALENDAR
PRODID:-//eluceo/ical//2.0/EN
VERSION:2.0
CALSCALE:GREGORIAN
BEGIN:VEVENT
UID:32959317cccafb6cb2256d4a40909c30
DTSTAMP:20260423T055111Z
SUMMARY:Jewish Community Center Open House
DESCRIPTION:Jewish Federation of Central Massachusetts\nCalendar\nhttps://j
 ewishcentralmass.org/calendar/19cal613\n\nJewish Community Center Open Hou
 se
DTSTART;TZID=America/New_York:20190113T110000
DTEND;TZID=America/New_York:20190113T235959
END:VEVENT
END:VCALENDAR
