BEGIN:VCALENDAR
PRODID:-//eluceo/ical//2.0/EN
VERSION:2.0
CALSCALE:GREGORIAN
BEGIN:VEVENT
UID:2a0c4e1d883436adb0f6a5d6cdf32a01
DTSTAMP:20260425T033447Z
SUMMARY:Jewish Community Center Board Meeting
DESCRIPTION:Jewish Federation of Central Massachusetts\nCalendar\nhttps://j
 ewishcentralmass.org/calendar/19cal608\n\nJewish Community Center Board Me
 eting
DTSTART;TZID=America/New_York:20190110T193000
DTEND;TZID=America/New_York:20190110T235959
END:VEVENT
END:VCALENDAR
