BEGIN:VCALENDAR
PRODID:-//eluceo/ical//2.0/EN
VERSION:2.0
CALSCALE:GREGORIAN
BEGIN:VEVENT
UID:94af6fd075471ab04e92a13f261a1161
DTSTAMP:20260424T074522Z
SUMMARY:Beth Tikvah Board Meeting
DESCRIPTION:Jewish Federation of Central Massachusetts\nCalendar\nhttps://j
 ewishcentralmass.org/calendar/19cal607\n\nBeth Tikvah Board Meeting
DTSTART;TZID=America/New_York:20190109T190000
DTEND;TZID=America/New_York:20190109T235959
END:VEVENT
END:VCALENDAR
