BEGIN:VCALENDAR
PRODID:-//eluceo/ical//2.0/EN
VERSION:2.0
CALSCALE:GREGORIAN
BEGIN:VEVENT
UID:a2de2c392150f379ce1bb22313bff29e
DTSTAMP:20260423T172347Z
SUMMARY:New Years
DESCRIPTION:Jewish Federation of Central Massachusetts\nCalendar\nhttps://j
 ewishcentralmass.org/calendar/19cal605\n\nNew Years
DTSTART;TZID=America/New_York:20190101T000100
DTEND;TZID=America/New_York:20190101T235959
END:VEVENT
END:VCALENDAR
