BEGIN:VCALENDAR
PRODID:-//eluceo/ical//2.0/EN
VERSION:2.0
CALSCALE:GREGORIAN
BEGIN:VEVENT
UID:29fb04a44cecab91d34ba95814892f3e
DTSTAMP:20260420T133127Z
SUMMARY:Congregation Beth Israel Board Meeting
DESCRIPTION:Jewish Federation of Central Massachusetts\nCalendar\nhttps://j
 ewishcentralmass.org/calendar/19cal604\n\nCongregation Beth Israel Board M
 eeting
DTSTART;TZID=America/New_York:20181220T193000
DTEND;TZID=America/New_York:20181220T235959
END:VEVENT
END:VCALENDAR
