BEGIN:VCALENDAR
PRODID:-//eluceo/ical//2.0/EN
VERSION:2.0
CALSCALE:GREGORIAN
BEGIN:VEVENT
UID:de95f47fb343eb65a5dc5ea6091cfa9b
DTSTAMP:20260423T060653Z
SUMMARY:Jewish Community Center Finance Committee
DESCRIPTION:Jewish Federation of Central Massachusetts\nCalendar\nhttps://j
 ewishcentralmass.org/calendar/19cal603\n\nJewish Community Center Finance 
 Committee
DTSTART;TZID=America/New_York:20181219T193000
DTEND;TZID=America/New_York:20181219T235959
END:VEVENT
END:VCALENDAR
