BEGIN:VCALENDAR
PRODID:-//eluceo/ical//2.0/EN
VERSION:2.0
CALSCALE:GREGORIAN
BEGIN:VEVENT
UID:dd01dfc016723cc5ec7d409a1ce1d36c
DTSTAMP:20260421T231850Z
SUMMARY:Congregation B'nai Shalom Board Meeting
DESCRIPTION:Jewish Federation of Central Massachusetts\nCalendar\nhttps://j
 ewishcentralmass.org/calendar/19cal602\n\nCongregation B'nai Shalom Board 
 Meeting
DTSTART;TZID=America/New_York:20181219T193000
DTEND;TZID=America/New_York:20181219T235959
END:VEVENT
END:VCALENDAR
