BEGIN:VCALENDAR
PRODID:-//eluceo/ical//2.0/EN
VERSION:2.0
CALSCALE:GREGORIAN
BEGIN:VEVENT
UID:ad81a51f0f81011cf6d314fb2b1e9873
DTSTAMP:20260423T231731Z
SUMMARY:Temple Emanuel Sinai Brotherhood Breakfast
DESCRIPTION:Jewish Federation of Central Massachusetts\nCalendar\nhttps://j
 ewishcentralmass.org/calendar/19cal600\n\nTemple Emanuel Sinai Brotherhood
  Breakfast
DTSTART;TZID=America/New_York:20181216T094500
DTEND;TZID=America/New_York:20181216T235959
END:VEVENT
END:VCALENDAR
