BEGIN:VCALENDAR
PRODID:-//eluceo/ical//2.0/EN
VERSION:2.0
CALSCALE:GREGORIAN
BEGIN:VEVENT
UID:25f0557035bc9129814b1893d5fb8e2d
DTSTAMP:20260423T021814Z
SUMMARY:Congregation Beth Israel Brotherhood Breakfast
DESCRIPTION:Jewish Federation of Central Massachusetts\nCalendar\nhttps://j
 ewishcentralmass.org/calendar/19cal599\n\nCongregation Beth Israel Brother
 hood Breakfast
DTSTART;TZID=America/New_York:20181216T093000
DTEND;TZID=America/New_York:20181216T235959
END:VEVENT
END:VCALENDAR
