BEGIN:VCALENDAR
PRODID:-//eluceo/ical//2.0/EN
VERSION:2.0
CALSCALE:GREGORIAN
BEGIN:VEVENT
UID:54b71ef06ed786a09c1bf571828f3ccf
DTSTAMP:20260422T154053Z
SUMMARY:Jewish Community Center Board Meeting
DESCRIPTION:Jewish Federation of Central Massachusetts\nCalendar\nhttps://j
 ewishcentralmass.org/calendar/19cal598\n\nJewish Community Center Board Me
 eting
DTSTART;TZID=America/New_York:20181213T193000
DTEND;TZID=America/New_York:20181213T235959
END:VEVENT
END:VCALENDAR
