BEGIN:VCALENDAR
PRODID:-//eluceo/ical//2.0/EN
VERSION:2.0
CALSCALE:GREGORIAN
BEGIN:VEVENT
UID:9f34881eade6f21447311e4712a35bdf
DTSTAMP:20260422T141810Z
SUMMARY:Beth Tikvah Board Meeting
DESCRIPTION:Jewish Federation of Central Massachusetts\nCalendar\nhttps://j
 ewishcentralmass.org/calendar/19cal597\n\nBeth Tikvah Board Meeting
DTSTART;TZID=America/New_York:20181212T190000
DTEND;TZID=America/New_York:20181212T235959
END:VEVENT
END:VCALENDAR
