BEGIN:VCALENDAR
PRODID:-//eluceo/ical//2.0/EN
VERSION:2.0
CALSCALE:GREGORIAN
BEGIN:VEVENT
UID:450cd2c6048fd4aa0efbb0b515fc8b17
DTSTAMP:20260421T170639Z
SUMMARY:Congregation B'nai Shalom Paper Cutting
DESCRIPTION:Jewish Federation of Central Massachusetts\nCalendar\nhttps://j
 ewishcentralmass.org/calendar/19cal596\n\nCongregation B'nai Shalom Paper 
 Cutting
DTSTART;TZID=America/New_York:20181209T173000
DTEND;TZID=America/New_York:20181209T235959
END:VEVENT
END:VCALENDAR
