BEGIN:VCALENDAR
PRODID:-//eluceo/ical//2.0/EN
VERSION:2.0
CALSCALE:GREGORIAN
BEGIN:VEVENT
UID:19974ce134019616a6c8e568c1fd93a6
DTSTAMP:20260422T010037Z
SUMMARY:JFCM YAD Hanukkah Party
DESCRIPTION:Jewish Federation of Central Massachusetts\nCalendar\nhttps://j
 ewishcentralmass.org/calendar/19cal595\n\nJFCM YAD Hanukkah Party
DTSTART;TZID=America/New_York:20181208T183000
DTEND;TZID=America/New_York:20181208T235959
END:VEVENT
END:VCALENDAR
