BEGIN:VCALENDAR
PRODID:-//eluceo/ical//2.0/EN
VERSION:2.0
CALSCALE:GREGORIAN
BEGIN:VEVENT
UID:89454eaef6fb254c45b88df3e3cfc7fa
DTSTAMP:20260423T214302Z
SUMMARY:Congregation B'nai Shalom Concert
DESCRIPTION:Jewish Federation of Central Massachusetts\nCalendar\nhttps://j
 ewishcentralmass.org/calendar/19cal594\n\nCongregation B'nai Shalom Concer
 t
DTSTART;TZID=America/New_York:20181208T173000
DTEND;TZID=America/New_York:20181208T235959
END:VEVENT
END:VCALENDAR
