BEGIN:VCALENDAR
PRODID:-//eluceo/ical//2.0/EN
VERSION:2.0
CALSCALE:GREGORIAN
BEGIN:VEVENT
UID:a14906fa7ae2cd139c4e3dd0b9d78142
DTSTAMP:20260420T193220Z
SUMMARY:Temple Emanuel Sinai Creative Latke Making
DESCRIPTION:Jewish Federation of Central Massachusetts\nCalendar\nhttps://j
 ewishcentralmass.org/calendar/19cal593\n\nTemple Emanuel Sinai Creative La
 tke Making
DTSTART;TZID=America/New_York:20181207T193000
DTEND;TZID=America/New_York:20181207T235959
END:VEVENT
END:VCALENDAR
