BEGIN:VCALENDAR
PRODID:-//eluceo/ical//2.0/EN
VERSION:2.0
CALSCALE:GREGORIAN
BEGIN:VEVENT
UID:91780f96e8f8e360cb22638edad011b9
DTSTAMP:20260424T041927Z
SUMMARY:Temple Emanuel Sinai Creative Latke Making
DESCRIPTION:Jewish Federation of Central Massachusetts\nCalendar\nhttps://j
 ewishcentralmass.org/calendar/19cal591\n\nTemple Emanuel Sinai Creative La
 tke Making
DTSTART;TZID=America/New_York:20181206T180000
DTEND;TZID=America/New_York:20181206T235959
END:VEVENT
END:VCALENDAR
